BEGIN:VCALENDAR
VERSION:2.0
PRODID:icalendar-ruby
CALSCALE:GREGORIAN
METHOD:PUBLISH
BEGIN:VTIMEZONE
TZID:Australia/Sydney
BEGIN:DAYLIGHT
DTSTART:20261004T030000
TZOFFSETFROM:+1000
TZOFFSETTO:+1100
RRULE:FREQ=YEARLY;BYDAY=1SU;BYMONTH=10
TZNAME:AEDT
END:DAYLIGHT
BEGIN:STANDARD
DTSTART:20260405T020000
TZOFFSETFROM:+1100
TZOFFSETTO:+1000
RRULE:FREQ=YEARLY;BYDAY=1SU;BYMONTH=4
TZNAME:AEST
END:STANDARD
END:VTIMEZONE
BEGIN:VEVENT
DTSTAMP:20260424T120950Z
UID:inspection_3012897
DTSTART;TZID=Australia/Sydney:20260428T150000
DTEND;TZID=Australia/Sydney:20260428T153000
CLASS:PUBLIC
CREATED:20260424T163417
DESCRIPTION: 
LAST-MODIFIED:20260424T163417
LOCATION:5 / 24 Little Street\, FORSTER NSW 2428\, Australia
SUMMARY:5 / 24 Little Street\,  Inspection
URL;VALUE=URI:https://www.jklrealestate.com/
END:VEVENT
END:VCALENDAR
